BEGIN:VCALENDAR
VERSION:2.0
PRODID:-//Plone.org//NONSGML plone.app.event//EN
X-WR-TIMEZONE:Europe/Stockholm
BEGIN:VEVENT
SUMMARY:First CombLayer course
DTSTART;VALUE=DATE:20151208
DTEND;VALUE=DATE:20151212
DTSTAMP;VALUE=DATE-TIME:20260424T173455Z
UID:350349ed4097446b81a4e5766f6b8014@dedm.pnpi.spb.ru
CONTACT:Stuart Ansell
CREATED;VALUE=DATE-TIME:20180309T093004Z
DESCRIPTION:Philosophy\, Principle and Methods for the CombLayer
LAST-MODIFIED;VALUE=DATE-TIME:20180426T151852Z
LOCATION:Lund
URL:http://dedm.pnpi.spb.ru/cl/trainings/course1/event
END:VEVENT
END:VCALENDAR
