BEGIN:VCALENDAR
VERSION:2.0
PRODID:-//Plone.org//NONSGML plone.app.event//EN
X-WR-TIMEZONE:Europe/Stockholm
BEGIN:VEVENT
SUMMARY:Max-IV CombLayer users meeting
DTSTART;TZID=Europe/Stockholm;VALUE=DATE-TIME:20180312T100000
DTEND;TZID=Europe/Stockholm;VALUE=DATE-TIME:20180312T110000
DTSTAMP;VALUE=DATE-TIME:20260424T173530Z
UID:16c1a62c1a224486910706f6133148dc@dedm.pnpi.spb.ru
CONTACT:Stuart Ansell
CREATED;VALUE=DATE-TIME:20180308T163709Z
LAST-MODIFIED;VALUE=DATE-TIME:20180309T093259Z
LOCATION:Max-IV
URL:http://dedm.pnpi.spb.ru/cl/trainings/03
END:VEVENT
BEGIN:VTIMEZONE
TZID:Europe/Stockholm
X-LIC-LOCATION:Europe/Stockholm
BEGIN:STANDARD
DTSTART;VALUE=DATE-TIME:20171029T020000
TZNAME:CET
TZOFFSETFROM:+0200
TZOFFSETTO:+0100
END:STANDARD
END:VTIMEZONE
END:VCALENDAR
