BEGIN:VCALENDAR
VERSION:2.0
PRODID:-//Plone.org//NONSGML plone.app.event//EN
X-WR-TIMEZONE:Europe/Stockholm
BEGIN:VEVENT
SUMMARY:Survival course for advanced users
DTSTART;VALUE=DATE:20171211
DTEND;VALUE=DATE:20171216
DTSTAMP;VALUE=DATE-TIME:20260424T173530Z
UID:ecb77c8b568e4ddb880ae11629307f2e@dedm.pnpi.spb.ru
ATTENDEE;CN="SA, KB, VS, RK, JS, TR";ROLE=REQ-PARTICIPANT:SA, KB, VS, RK, 
 JS, TR
CONTACT:Stuart Ansell
CREATED;VALUE=DATE-TIME:20180118T102416Z
LAST-MODIFIED;VALUE=DATE-TIME:20180309T093746Z
LOCATION:Lila Tuna\, ESS\, Lund
URL:http://dedm.pnpi.spb.ru/cl/trainings/02
END:VEVENT
END:VCALENDAR
